BEGIN:VCALENDAR
VERSION:2.0
PRODID:-//IAL - ECPv6.15.12.2//NONSGML v1.0//EN
CALSCALE:GREGORIAN
METHOD:PUBLISH
X-ORIGINAL-URL:https://ial.lu
X-WR-CALDESC:Events for IAL
REFRESH-INTERVAL;VALUE=DURATION:PT1H
X-Robots-Tag:noindex
X-PUBLISHED-TTL:PT1H
BEGIN:VTIMEZONE
TZID:UTC
BEGIN:STANDARD
TZOFFSETFROM:+0000
TZOFFSETTO:+0000
TZNAME:UTC
DTSTART:20220101T000000
END:STANDARD
END:VTIMEZONE
BEGIN:VEVENT
DTSTART;TZID=UTC:20231118T080000
DTEND;TZID=UTC:20231118T170000
DTSTAMP:20260421T162038
CREATED:20240402T052124Z
LAST-MODIFIED:20240402T052124Z
UID:3454-1700294400-1700326800@ial.lu
SUMMARY:Diwali Gala 2023
DESCRIPTION:DIWALI GALA\nIndian Festival of Lights\n18th NOVEMBER 2023
URL:https://ial.lu/event/diwali-gala-2023/
LOCATION:Centre Culturel Merl 26 Rue Saint-Hubert\, 1744
ATTACH;FMTTYPE=image/jpeg:https://ial.lu/wp-content/uploads/2024/04/1698233976_IAL-DIWALI-2-1-scaled.jpg
END:VEVENT
END:VCALENDAR