BEGIN:VCALENDAR
VERSION:2.0
PRODID:-//IAL - ECPv6.15.12.2//NONSGML v1.0//EN
CALSCALE:GREGORIAN
METHOD:PUBLISH
X-WR-CALNAME:IAL
X-ORIGINAL-URL:https://ial.lu
X-WR-CALDESC:Events for IAL
REFRESH-INTERVAL;VALUE=DURATION:PT1H
X-Robots-Tag:noindex
X-PUBLISHED-TTL:PT1H
BEGIN:VTIMEZONE
TZID:UTC
BEGIN:STANDARD
TZOFFSETFROM:+0000
TZOFFSETTO:+0000
TZNAME:UTC
DTSTART:20230101T000000
END:STANDARD
END:VTIMEZONE
BEGIN:VEVENT
DTSTART;TZID=UTC:20240107T080000
DTEND;TZID=UTC:20240107T170000
DTSTAMP:20260421T161804
CREATED:20240402T052538Z
LAST-MODIFIED:20240402T052538Z
UID:3458-1704614400-1704646800@ial.lu
SUMMARY:Fun Maths & Mind Games (for 12+ years)
DESCRIPTION:Please join us at this workshop with your kids\, who would be willing to learn some Mathematical tricks & tips. This workshop is for anyone above 12 years.
URL:https://ial.lu/event/fun-maths-mind-games-for-12-years/
LOCATION:(CLAE Office) – 1\, Rue Tony Bourg\, Gasperich\, Luxembourg
ATTACH;FMTTYPE=image/jpeg:https://ial.lu/wp-content/uploads/2024/04/1703674664_Maths-Workshop-_1_-1.jpeg
END:VEVENT
END:VCALENDAR