BEGIN:VCALENDAR
VERSION:2.0
PRODID:-//IAL - ECPv6.15.12.2//NONSGML v1.0//EN
CALSCALE:GREGORIAN
METHOD:PUBLISH
X-WR-CALNAME:IAL
X-ORIGINAL-URL:https://ial.lu
X-WR-CALDESC:Events for IAL
REFRESH-INTERVAL;VALUE=DURATION:PT1H
X-Robots-Tag:noindex
X-PUBLISHED-TTL:PT1H
BEGIN:VTIMEZONE
TZID:UTC
BEGIN:STANDARD
TZOFFSETFROM:+0000
TZOFFSETTO:+0000
TZNAME:UTC
DTSTART:20180101T000000
END:STANDARD
END:VTIMEZONE
BEGIN:VEVENT
DTSTART;TZID=UTC:20210321T080000
DTEND;TZID=UTC:20210321T170000
DTSTAMP:20260422T023924
CREATED:20240402T050350Z
LAST-MODIFIED:20240402T050439Z
UID:3441-1616313600-1616346000@ial.lu
SUMMARY:Digital Holi Celebration 2021
DESCRIPTION:Digital Holi Celebration 2021
URL:https://ial.lu/event/digital-holi-celebration-2021/
LOCATION:Luxembourg
ATTACH;FMTTYPE=image/jpeg:https://ial.lu/wp-content/uploads/2024/04/1688125997_digital_holi_thumb2.jpg
END:VEVENT
BEGIN:VEVENT
DTSTART;TZID=UTC:20201230T080000
DTEND;TZID=UTC:20201230T170000
DTSTAMP:20260422T023924
CREATED:20240402T043539Z
LAST-MODIFIED:20240402T050045Z
UID:3438-1609315200-1609347600@ial.lu
SUMMARY:Lagaan Cup 2020
DESCRIPTION:Lagaan Cup 2020
URL:https://ial.lu/event/lagaan-cup-2020/
ATTACH;FMTTYPE=image/jpeg:https://ial.lu/wp-content/uploads/2024/04/1688122118_img1-01.jpg
END:VEVENT
BEGIN:VEVENT
DTSTART;TZID=UTC:20200928T080000
DTEND;TZID=UTC:20200928T170000
DTSTAMP:20260422T023924
CREATED:20240402T040713Z
LAST-MODIFIED:20240402T040821Z
UID:3408-1601280000-1601312400@ial.lu
SUMMARY:Yoga-Day
DESCRIPTION:Yoga-Day
URL:https://ial.lu/event/yoga-day/
LOCATION:Luxembourg
ATTACH;FMTTYPE=image/jpeg:https://ial.lu/wp-content/uploads/2024/04/1601140710_1.jpg
END:VEVENT
BEGIN:VEVENT
DTSTART;TZID=UTC:20200928T080000
DTEND;TZID=UTC:20200928T170000
DTSTAMP:20260422T023924
CREATED:20240402T040546Z
LAST-MODIFIED:20240402T040546Z
UID:3405-1601280000-1601312400@ial.lu
SUMMARY:Rang-De-Luxembourg
DESCRIPTION:Rang-De-Luxembourg
URL:https://ial.lu/event/rang-de-luxembourg/
LOCATION:Luxembourg
ATTACH;FMTTYPE=image/jpeg:https://ial.lu/wp-content/uploads/2024/04/1601116505_3.jpg
END:VEVENT
BEGIN:VEVENT
DTSTART;TZID=UTC:20200928T080000
DTEND;TZID=UTC:20200928T170000
DTSTAMP:20260422T023924
CREATED:20240402T040228Z
LAST-MODIFIED:20240402T040340Z
UID:3402-1601280000-1601312400@ial.lu
SUMMARY:Picnic-day
DESCRIPTION:Picnic-day
URL:https://ial.lu/event/picnic-day/
LOCATION:Luxembourg
ATTACH;FMTTYPE=image/jpeg:https://ial.lu/wp-content/uploads/2024/04/1601116180_2.jpg
END:VEVENT
BEGIN:VEVENT
DTSTART;TZID=UTC:20200928T080000
DTEND;TZID=UTC:20200928T170000
DTSTAMP:20260422T023924
CREATED:20240402T035756Z
LAST-MODIFIED:20240402T035929Z
UID:3400-1601280000-1601312400@ial.lu
SUMMARY:India-day
DESCRIPTION:India-day
URL:https://ial.lu/event/india-day/
LOCATION:Luxembourg
ATTACH;FMTTYPE=image/jpeg:https://ial.lu/wp-content/uploads/2024/04/1601115790_6.jpg
END:VEVENT
BEGIN:VEVENT
DTSTART;TZID=UTC:20200928T080000
DTEND;TZID=UTC:20200928T170000
DTSTAMP:20260422T023924
CREATED:20240402T035202Z
LAST-MODIFIED:20240402T035603Z
UID:3397-1601280000-1601312400@ial.lu
SUMMARY:Harvest-festival
DESCRIPTION:Harvest-festival
URL:https://ial.lu/event/harvest-festival/
LOCATION:Luxembourg
ATTACH;FMTTYPE=image/jpeg:https://ial.lu/wp-content/uploads/2024/04/1601115790_6.jpg
END:VEVENT
BEGIN:VEVENT
DTSTART;TZID=UTC:20200928T080000
DTEND;TZID=UTC:20200928T170000
DTSTAMP:20260422T023924
CREATED:20240402T034941Z
LAST-MODIFIED:20240402T035031Z
UID:3393-1601280000-1601312400@ial.lu
SUMMARY:Gandhi-Jayanti
DESCRIPTION:Gandhi-Jayanti
URL:https://ial.lu/event/gandhi-jayanti/
LOCATION:Luxembourg
ATTACH;FMTTYPE=image/jpeg:https://ial.lu/wp-content/uploads/2024/04/1601115649_5.jpg
END:VEVENT
BEGIN:VEVENT
DTSTART;TZID=UTC:20200928T080000
DTEND;TZID=UTC:20200928T170000
DTSTAMP:20260422T023924
CREATED:20240328T092053Z
LAST-MODIFIED:20240402T034511Z
UID:3285-1601280000-1601312400@ial.lu
SUMMARY:Diwali-Gala-Event-2019
DESCRIPTION:
URL:https://ial.lu/event/diwali-gala-event-2019/
ATTACH;FMTTYPE=image/jpeg:https://ial.lu/wp-content/uploads/2024/03/1601140605_diwali-thumnail.jpg
END:VEVENT
BEGIN:VEVENT
DTSTART;TZID=UTC:20200928T080000
DTEND;TZID=UTC:20200928T170000
DTSTAMP:20260422T023924
CREATED:20240328T091914Z
LAST-MODIFIED:20240402T034350Z
UID:3283-1601280000-1601312400@ial.lu
SUMMARY:Dandiya
DESCRIPTION:dandiya night
URL:https://ial.lu/event/dandiya/
ATTACH;FMTTYPE=image/jpeg:https://ial.lu/wp-content/uploads/2024/03/1601114652_4.jpg
END:VEVENT
BEGIN:VEVENT
DTSTART;TZID=UTC:20200913T080000
DTEND;TZID=UTC:20200913T170000
DTSTAMP:20260422T023924
CREATED:20240328T091735Z
LAST-MODIFIED:20240404T024558Z
UID:3281-1599984000-1600016400@ial.lu
SUMMARY:Digital India Day
DESCRIPTION:On 13th September 2020 Sunday Indian Association Luxembourg (IAL) is organizing a Digital India Day (DID) event. \n5th India Day event was supposed to be the biggest\, however\, due to the pandemic situation the 5th annual India Day will be a fully digital event\, where you can witness vivid performances and the taste of India at the comfort of your home.
URL:https://ial.lu/event/digital-india-day/
ATTACH;FMTTYPE=image/png:https://ial.lu/wp-content/uploads/2024/03/1598695668_IAL-DID2020-1.png
END:VEVENT
BEGIN:VEVENT
DTSTART;TZID=UTC:20190915T080000
DTEND;TZID=UTC:20190915T170000
DTSTAMP:20260422T023924
CREATED:20240328T091337Z
LAST-MODIFIED:20240402T032212Z
UID:3279-1568534400-1568566800@ial.lu
SUMMARY:India Day 2019
DESCRIPTION:4th India Day
URL:https://ial.lu/event/india-day-2019/
ATTACH;FMTTYPE=image/jpeg:https://ial.lu/wp-content/uploads/2024/03/1601141427_1578746352_06-12.jpg
END:VEVENT
END:VCALENDAR