BEGIN:VCALENDAR
VERSION:2.0
PRODID:-//IAL - ECPv6.15.12.2//NONSGML v1.0//EN
CALSCALE:GREGORIAN
METHOD:PUBLISH
X-WR-CALNAME:IAL
X-ORIGINAL-URL:https://ial.lu
X-WR-CALDESC:Events for IAL
REFRESH-INTERVAL;VALUE=DURATION:PT1H
X-Robots-Tag:noindex
X-PUBLISHED-TTL:PT1H
BEGIN:VTIMEZONE
TZID:UTC
BEGIN:STANDARD
TZOFFSETFROM:+0000
TZOFFSETTO:+0000
TZNAME:UTC
DTSTART:20220101T000000
END:STANDARD
END:VTIMEZONE
BEGIN:VEVENT
DTSTART;TZID=UTC:20230715T080000
DTEND;TZID=UTC:20230715T170000
DTSTAMP:20260421T102612
CREATED:20240402T043332Z
LAST-MODIFIED:20240402T043341Z
UID:3434-1689408000-1689440400@ial.lu
SUMMARY:Celebrating Holi & Bollywood Night
DESCRIPTION:Celebrating Holi & Bollywood Night on 15th July 2023
URL:https://ial.lu/event/celebrating-holi-bollywood-night/
LOCATION:Pl. de la Résistance\, 4011 Esch-sur-Alzette
ATTACH;FMTTYPE=image/jpeg:https://ial.lu/wp-content/uploads/2024/04/1688120416_IAL-HOLI-BOLLYWOOD-NIGHT-scaled.jpg
END:VEVENT
END:VCALENDAR