BEGIN:VCALENDAR
VERSION:2.0
PRODID:-//IAL - ECPv6.15.12.2//NONSGML v1.0//EN
CALSCALE:GREGORIAN
METHOD:PUBLISH
X-WR-CALNAME:IAL
X-ORIGINAL-URL:https://ial.lu
X-WR-CALDESC:Events for IAL
REFRESH-INTERVAL;VALUE=DURATION:PT1H
X-Robots-Tag:noindex
X-PUBLISHED-TTL:PT1H
BEGIN:VTIMEZONE
TZID:UTC
BEGIN:STANDARD
TZOFFSETFROM:+0000
TZOFFSETTO:+0000
TZNAME:UTC
DTSTART:20230101T000000
END:STANDARD
END:VTIMEZONE
BEGIN:VEVENT
DTSTART;TZID=UTC:20240224T080000
DTEND;TZID=UTC:20240224T170000
DTSTAMP:20260421T133445
CREATED:20240402T053324Z
LAST-MODIFIED:20240402T053355Z
UID:3466-1708761600-1708794000@ial.lu
SUMMARY:Festival des Migrations (CLAE)
DESCRIPTION:Join IAL at the 41st Festival des Migrations! ???????? \nWe’re thrilled to announce that the Indian Association Luxembourg (IAL) will be participating in the 41st Festival des Migrations\, organized by CLAE at the LuxExpo. Mark your calendars for an unforgettable experience of Indian culture\, food\, and art! \n???? Dates & Times: \nSaturday\, 24th February 2024: 12 PM to Midnight\nSunday\, 25th February 2024: 12 PM to 8 PM\n???? IAL Booth: Number 104\nWe’ll be setting up on the 23rd February\, ready to welcome you on the 24th & 25th. Stop by to explore some Indian food & art\, and don’t miss the chance to learn more about our community and activities. \nLet’s Make Memories!\nCome say hello\, take a selfie at our booth\, and share your moments on social media. Make sure to tag IAL and spread the word! \nFor more details about the festival\, visit Festival des Migrations (https://festivaldesmigrations.lu/copie-de-archives-40-edition-festival-2023). \nSee you there to celebrate the diversity and unity that Indian culture brings to Luxembourg!
URL:https://ial.lu/event/festival-des-migrations-clae/
LOCATION:LUXEXPO-THE BOX\, LUXEMBOURG-KIRCHBERG
ATTACH;FMTTYPE=image/jpeg:https://ial.lu/wp-content/uploads/2024/04/1708018815_CLAE.jpg
END:VEVENT
END:VCALENDAR